BEGIN:VCALENDAR
VERSION:2.0
PRODID:-//Trout Lake Community Centre - ECPv6.15.11//NONSGML v1.0//EN
CALSCALE:GREGORIAN
METHOD:PUBLISH
X-WR-CALNAME:Trout Lake Community Centre
X-ORIGINAL-URL:https://troutlakecc.com
X-WR-CALDESC:Events for Trout Lake Community Centre
REFRESH-INTERVAL;VALUE=DURATION:PT1H
X-Robots-Tag:noindex
X-PUBLISHED-TTL:PT1H
BEGIN:VTIMEZONE
TZID:America/Vancouver
BEGIN:DAYLIGHT
TZOFFSETFROM:-0800
TZOFFSETTO:-0700
TZNAME:PDT
DTSTART:20240310T100000
END:DAYLIGHT
BEGIN:STANDARD
TZOFFSETFROM:-0700
TZOFFSETTO:-0800
TZNAME:PST
DTSTART:20241103T090000
END:STANDARD
BEGIN:DAYLIGHT
TZOFFSETFROM:-0800
TZOFFSETTO:-0700
TZNAME:PDT
DTSTART:20250309T100000
END:DAYLIGHT
BEGIN:STANDARD
TZOFFSETFROM:-0700
TZOFFSETTO:-0800
TZNAME:PST
DTSTART:20251102T090000
END:STANDARD
BEGIN:DAYLIGHT
TZOFFSETFROM:-0800
TZOFFSETTO:-0700
TZNAME:PDT
DTSTART:20260308T100000
END:DAYLIGHT
BEGIN:STANDARD
TZOFFSETFROM:-0700
TZOFFSETTO:-0800
TZNAME:PST
DTSTART:20261101T090000
END:STANDARD
END:VTIMEZONE
BEGIN:VEVENT
DTSTART;TZID=America/Vancouver:20250930T103000
DTEND;TZID=America/Vancouver:20250930T150000
DTSTAMP:20260421T121731
CREATED:20250801T223858Z
LAST-MODIFIED:20250731T224738Z
UID:18466-1759228200-1759244400@troutlakecc.com
SUMMARY:Cedar Weaving with Todd DeVries
DESCRIPTION:Held in honour of the National Day for Truth and Reconciliation\, participants will learn the history and cultural values of Cedar Bark Weaving. 100% of proceeds support the Indian Residential School Survivors Society. An opportunity to reflect\, connect\, and contribute through traditional art. \nCedar Weaving Hearts: Join Haida Artist/Weaver Todd DeVries in this hands-on workshop to create a cedar heart\, symbolizing Every Child Matters. \nActivity #578794 \n10:30 a.m. – 12:30 p.m. \nCedar Weaving Bracelets: In this meaningful workshop led by Haida Artist/Weaver Todd DeVries\, create a cedar bracelet\nrepresenting non-violence and anti-bullying. \nActivity #578795  \n1:00 p.m. – 3:00 p.m. \n 
URL:https://troutlakecc.com/event/cedar-weaving-with-todd-devries/
LOCATION:Trout Lake Community Centre\, 3360 Victoria Drive\, Vancouver\, V5N4M4\, Canada
CATEGORIES:Education
ATTACH;FMTTYPE=image/jpeg:https://troutlakecc.com/wp-content/uploads/2025/07/Todd-DeVries.jpg
END:VEVENT
END:VCALENDAR