BEGIN:VCALENDAR
VERSION:2.0
PRODID:-//Trout Lake Community Centre - ECPv6.15.11//NONSGML v1.0//EN
CALSCALE:GREGORIAN
METHOD:PUBLISH
X-ORIGINAL-URL:https://troutlakecc.com
X-WR-CALDESC:Events for Trout Lake Community Centre
REFRESH-INTERVAL;VALUE=DURATION:PT1H
X-Robots-Tag:noindex
X-PUBLISHED-TTL:PT1H
BEGIN:VTIMEZONE
TZID:America/Vancouver
BEGIN:DAYLIGHT
TZOFFSETFROM:-0800
TZOFFSETTO:-0700
TZNAME:PDT
DTSTART:20210314T100000
END:DAYLIGHT
BEGIN:STANDARD
TZOFFSETFROM:-0700
TZOFFSETTO:-0800
TZNAME:PST
DTSTART:20211107T090000
END:STANDARD
BEGIN:DAYLIGHT
TZOFFSETFROM:-0800
TZOFFSETTO:-0700
TZNAME:PDT
DTSTART:20220313T100000
END:DAYLIGHT
BEGIN:STANDARD
TZOFFSETFROM:-0700
TZOFFSETTO:-0800
TZNAME:PST
DTSTART:20221106T090000
END:STANDARD
BEGIN:DAYLIGHT
TZOFFSETFROM:-0800
TZOFFSETTO:-0700
TZNAME:PDT
DTSTART:20230312T100000
END:DAYLIGHT
BEGIN:STANDARD
TZOFFSETFROM:-0700
TZOFFSETTO:-0800
TZNAME:PST
DTSTART:20231105T090000
END:STANDARD
END:VTIMEZONE
BEGIN:VTIMEZONE
TZID:UTC
BEGIN:STANDARD
TZOFFSETFROM:+0000
TZOFFSETTO:+0000
TZNAME:UTC
DTSTART:20210101T000000
END:STANDARD
END:VTIMEZONE
BEGIN:VEVENT
DTSTART;TZID=America/Vancouver:20220930T130000
DTEND;TZID=America/Vancouver:20220930T150000
DTSTAMP:20260421T032726
CREATED:20220825T220557Z
LAST-MODIFIED:20220826T001643Z
UID:12490-1664542800-1664550000@troutlakecc.com
SUMMARY:Orange Shirt Day
DESCRIPTION: Every Child Matters Canada’s National Day for Truth and Reconciliation\nJoin Nisga’a Ts’amiks Vancouver Society to honour the lost children and survivors from the Indian Residential Schooling system. The program will feature a ceremony\, stories\, drumming\, and songs. All are welcome to attend and participate. Please meet at the south side of John Hendry Park. \nOrange t-shirts will be sold again this year\, with all proceeds to benefit survivors.  \nPlease visit www.tsamiks.com for more information.  \nTo participate in the program or support\, please email eventsmanager@tsamiks.com \nNo registration required to attend.
URL:https://troutlakecc.com/event/orange-shirt-day/
LOCATION:John Hendry Park\, 3300 Victoria Dr\, Vancouver\, BC\, V5N 4M4\, Canada
CATEGORIES:Education
ATTACH;FMTTYPE=image/png:https://troutlakecc.com/wp-content/uploads/2022/08/orange-shirt-day.png
END:VEVENT
BEGIN:VEVENT
DTSTART;TZID=UTC:20220725T173000
DTEND;TZID=UTC:20220725T203000
DTSTAMP:20260421T032726
CREATED:20220528T064704Z
LAST-MODIFIED:20220602T022006Z
UID:12098-1658770200-1658781000@troutlakecc.com
SUMMARY:Moss Ball Workshop
DESCRIPTION:Come learn the fascinating art of making Kokedama Balls!\nKokedama Balls are a globe of moss that contains soil and a plant. Kokedama is the practice of taking the root ball of a plant and suspending it in a mud ball\, which is then coated with soft green moss. It is a living planter as well as a distinctive display piece. They may be fixed to a piece of driftwood or bark\, suspended from a string\, or nestled in a clear\, attractive container. \nHanging many of these as a Kokedama moss garden is called a string garden. Participants will go through the process of mixing and understanding the soil needs\, wrapping the soil and placing the plant in the ball. We then tie it together and create a wrap to allow it to hang. \nFor ages 19+ \nRegister: Activity # 413685 \n 
URL:https://troutlakecc.com/event/moss-ball-workshop/
CATEGORIES:Workshop
ATTACH;FMTTYPE=image/png:https://troutlakecc.com/wp-content/uploads/2022/05/kokedama-workshop.png
END:VEVENT
BEGIN:VEVENT
DTSTART;TZID=UTC:20220717T100000
DTEND;TZID=UTC:20220717T113000
DTSTAMP:20260421T032726
CREATED:20220528T070019Z
LAST-MODIFIED:20220609T080318Z
UID:12105-1658052000-1658057400@troutlakecc.com
SUMMARY:Little Seedlings
DESCRIPTION:Children are often instinctually interested in taking care of the Earth\, and learning how plants grow. Fostering this interest is so important! We need to raise a generation of humans who view the Earth with respect and as an ally. \nThis exciting program explores new ways of engaging with the local natural environment through planting\, music and play. We will explore the needs of plants and how they align with the needs of little people (and big people too!). \nRecognizing our common connection with the natural environment is a transformative way to make change for the future. Fueled by a passion for protecting Mother Nature\, the instructor commits to making this a  fun and engaging time for children and their caregivers. \nPlease wear clothes appropriate for planting and getting dirty! Parent participation is mandatory. \nFor ages 2-4 yrs \n$20/1 session \nREGISTER:\nActivity #413295
URL:https://troutlakecc.com/event/little-seedlings/
CATEGORIES:Workshop
ATTACH;FMTTYPE=image/png:https://troutlakecc.com/wp-content/uploads/2022/06/little-seedlings.png
END:VEVENT
BEGIN:VEVENT
DTSTART;TZID=UTC:20220619T103000
DTEND;TZID=UTC:20220619T113000
DTSTAMP:20260421T032726
CREATED:20220308T063333Z
LAST-MODIFIED:20230301T015502Z
UID:11076-1655634600-1655638200@troutlakecc.com
SUMMARY:Greening Workshops — Ecological Gardening Session
DESCRIPTION:Are you a new gardener or just looking to learn more about gardening in a sustainable\, more ecologically in tune way? \nJoin us for an information session with BC Plant and Health Care specialist on topics such as soil health\, plant nutrition\, container gardening\, square foot gardening method\, plant health care and tree planting. \nAny materials needed will be provided. Come prepared to dig in the dirt! \nREGISTER:\nActivity #403506
URL:https://troutlakecc.com/event/greening-workshops-ecological-gardening-session/
LOCATION:Trout Lake Community Centre\, 3360 Victoria Drive\, Vancouver\, V5N4M4\, Canada
CATEGORIES:Workshop
ATTACH;FMTTYPE=image/png:https://troutlakecc.com/wp-content/uploads/2023/02/hands-hold-sprouts-over-earth.png
END:VEVENT
BEGIN:VEVENT
DTSTART;TZID=UTC:20220605T130000
DTEND;TZID=UTC:20220605T140000
DTSTAMP:20260421T032726
CREATED:20220308T060857Z
LAST-MODIFIED:20220528T081054Z
UID:11066-1654434000-1654437600@troutlakecc.com
SUMMARY:Plant knowledge workshop with Lori Snyder\, Indigenous Métis Herbalist and Educator
DESCRIPTION:It can be easy to forget about the wealth of food and medicines that grows all around us. Come out and learn about edible and medicinal plants that call our region home. \nIndigenous herbalist and educator Lori Snyder will explore some of the plants coming into season including berries\, and yarrow etc.\, which are growing in our medicine wheel at the John Hendry Park. \nThrough these teachings we reconnect with our forgotten friends\, and they take on a new life and offer a wealth of untapped nutritional and medicinal resources. Help restore the garden for the growing month by planting and clearing! \nFor ages 16+ \nRegister: Activity # 403846
URL:https://troutlakecc.com/event/indigenous-workshops-medicine-wheel/
LOCATION:John Hendry Park\, 3300 Victoria Dr\, Vancouver\, BC\, V5N 4M4\, Canada
CATEGORIES:Park,Workshop
END:VEVENT
BEGIN:VEVENT
DTSTART;TZID=UTC:20220528T130000
DTEND;TZID=UTC:20220528T150000
DTSTAMP:20260421T032726
CREATED:20220308T055806Z
LAST-MODIFIED:20230301T020854Z
UID:11063-1653742800-1653750000@troutlakecc.com
SUMMARY:Plant knowledge workshop with Lori Snyder\, Indigenous Métis Herbalist and Educator
DESCRIPTION:It can be easy to forget about the wealth of food and medicines that grows all around us. Come out and learn about edible and medicinal plants that call our region home. \nIndigenous herbalist and educator Lori Snyder will explore some of the plants coming into season including berries\, and yarrow etc. which are growing in our medicine wheel at the John Hendry Park. \nThrough these teachings we reconnect with our forgotten friends\, and they take on a new life and offer a wealth of untapped nutritional and medicinal resources. Help restore the garden for the growing month by planting and clearing! \nAges 16+ \nRegister: Activity # 403844
URL:https://troutlakecc.com/event/indigenous-workshops-medicine-wheel-spring-cleaning/
LOCATION:John Hendry Park\, 3300 Victoria Dr\, Vancouver\, BC\, V5N 4M4\, Canada
CATEGORIES:Park,Workshop
ATTACH;FMTTYPE=image/png:https://troutlakecc.com/wp-content/uploads/2022/03/man-hands-planting-seeds.png
END:VEVENT
BEGIN:VEVENT
DTSTART;TZID=UTC:20220515T100000
DTEND;TZID=UTC:20220515T110000
DTSTAMP:20260421T032726
CREATED:20220308T061601Z
LAST-MODIFIED:20220512T073335Z
UID:11070-1652608800-1652612400@troutlakecc.com
SUMMARY:Indigenous Workshops — Indigenous Plants
DESCRIPTION:Lori Snyder is an Indigenous herbalist and educator with a deep knowledge of wild\, medicinal and edible plants that grow in everyday spaces. Lori will be teaching us about the wild weeds\, the ones our ancestors used for their medicinal properties\, and identify what is growing in the Trout Lake Medicine Wheel. \nShe will share with us which medicines we can grow in our own gardens to make teas\, salves\, tinctures\, and incense\, helping us build good relationships with our living world. \nRegister today! \nActivity #403797
URL:https://troutlakecc.com/event/indigenous-workshops-indigenous-plants/
LOCATION:John Hendry Park\, 3300 Victoria Dr\, Vancouver\, BC\, V5N 4M4\, Canada
CATEGORIES:Park,Workshop
ATTACH;FMTTYPE=image/webp:https://troutlakecc.com/wp-content/uploads/2022/03/TL-medicine-wheel-plants.webp
END:VEVENT
BEGIN:VEVENT
DTSTART;TZID=UTC:20220424T103000
DTEND;TZID=UTC:20220424T113000
DTSTAMP:20260421T032726
CREATED:20220308T062418Z
LAST-MODIFIED:20220308T062418Z
UID:11073-1650796200-1650799800@troutlakecc.com
SUMMARY:Greening Workshops — Trout Lake Walking Tree Tour
DESCRIPTION:Tour of Trout Lake Park through the eyes of an arborist from BC Plant Health Care. \nThis interactive tour may cover topics such as tree ecology\, ethnobotany of trees\, tree health and disease\, trees and the landscape\, and eco-benefits of trees. \nCome dressed for the weather and ready to explore. Meet at the entrance to the Community Centre.
URL:https://troutlakecc.com/event/greening-workshops-trout-lake-walking-tree-tour/
LOCATION:John Hendry Park\, 3300 Victoria Dr\, Vancouver\, BC\, V5N 4M4\, Canada
CATEGORIES:Park,Workshop
ATTACH;FMTTYPE=image/jpeg:https://troutlakecc.com/wp-content/uploads/2022/03/johnhendry02.jpg
END:VEVENT
BEGIN:VEVENT
DTSTART;TZID=UTC:20220402T130000
DTEND;TZID=UTC:20220402T150000
DTSTAMP:20260421T032726
CREATED:20220308T054732Z
LAST-MODIFIED:20220308T054732Z
UID:11060-1648904400-1648911600@troutlakecc.com
SUMMARY:Indigenous Workshops — Medicine Wheel Blessing
DESCRIPTION:Join Elder Seis^^lom from Lil’wat Nation in the blessing of the Trout Lake Medicine Wheel. Then stay to help clean up the garden with some spring cleaning! \nGet ready to get dirty in the garden\, clean up the plants\, and learn from Indigenous Elders. \n 
URL:https://troutlakecc.com/event/indigenous-workshops-medicine-wheel-blessing/
LOCATION:John Hendry Park\, 3300 Victoria Dr\, Vancouver\, BC\, V5N 4M4\, Canada
CATEGORIES:Park,Workshop
ATTACH;FMTTYPE=image/webp:https://troutlakecc.com/wp-content/uploads/2022/03/TL-medicine-wheel.webp
END:VEVENT
END:VCALENDAR