BEGIN:VCALENDAR
VERSION:2.0
PRODID:-//Trout Lake Community Centre - ECPv6.15.11//NONSGML v1.0//EN
CALSCALE:GREGORIAN
METHOD:PUBLISH
X-ORIGINAL-URL:https://troutlakecc.com
X-WR-CALDESC:Events for Trout Lake Community Centre
REFRESH-INTERVAL;VALUE=DURATION:PT1H
X-Robots-Tag:noindex
X-PUBLISHED-TTL:PT1H
BEGIN:VTIMEZONE
TZID:UTC
BEGIN:STANDARD
TZOFFSETFROM:+0000
TZOFFSETTO:+0000
TZNAME:UTC
DTSTART:20210101T000000
END:STANDARD
END:VTIMEZONE
BEGIN:VEVENT
DTSTART;TZID=UTC:20220720T183000
DTEND;TZID=UTC:20220720T203000
DTSTAMP:20260423T231356
CREATED:20220625T081942Z
LAST-MODIFIED:20220629T072803Z
UID:12177-1658341800-1658349000@troutlakecc.com
SUMMARY:Wednesday Night Summer Concert – The Swingin’ Doors
DESCRIPTION:What are you doing Wednesday evenings this summer? Bring family and friends to our FREE Summer Concert Series at the outdoor performance area on the east side of building. (Note: rained out concerts will be held in the Grandview Room.) \nNot only are you up for some fantastic live music (line-up below) but there will be an Arts & Craft Station\, a TLCC Youth BBQ Fundraiser and\, some days\, a surprise Food Truck! \nWednesdays\, July 13 to August 17\, 2022 at 6:30 p.m.\nFREE\nActivity #412794 \nPerforming July 20\, 2022 – The Swingin’ Doors\nThese six Vancouver roots veterans serve up a menu of sizzling hot western swing. This distinctive style of music is a gumbo of country\, swing\, jazz and blues\, featuring the sound of fiddle and steel guitar. Western swing is dance music\, so let’s party! \n\nCome back every week. Here’s the line-up:\nKaya Kurz – performing on July 27\, 2022\nAs a queer woman of colour\, Kaya is a vocalist and songwriter who values equity and diversity. She strives to create inclusive spaces in the Vancouver music scene. Kaya draws influences from artists such as Lake Street Dive\, Nina Simone\, Rebecca Sugar\, and David Byrne. Soul\, jazz\, and indie/alt pop make up the majority of Kaya’s repertoire. \nVostok – performing August 3\, 2022\nVostok (the East) is a lower mainland-based vocal trio primarily performing a cappella. With a strong connection to their roots in Ukrainian music\, they also share a love of the rich and varied\, yet often interconnected musical and cultural traditions from across Eastern Europe and the Balkans. Their performances are filled with a diverse range of music from across the region in numerous languages and dialects. A Polish lament\, a Croatian harvest song\, a dissonant Bulgarian chant\, a Ukrainian spring song first heard on a Kyiv subway – Vostok takes the listener from bliss to despair and back again. \nSouth Van Big Band – performing on August 10\, 2022\nThe South Van Big Band is a 17-piece jazz orchestra based in Vancouver\, BC\, Canada. Its musical repertoire ranges across swing\, bebop\, Latin jazz\, rock\, funk\, fusion and contemporary styles. \nMariachi Tabasko – performing on August 17\, 2022\nMariachi Tabasko\, led by Diego Kohl\, delivers the passion and the love they feel for México and its culture when performing together. “It is such an honour to play Mariachi Music in Canada”. This band offers a range of different styles of Mariachi which include; heartfelt Rancheras\, romantic Boleros\, rhythmic Huapangos\, Polkas\, Cumbias and our favourite Songs. \n  \n\nFinal concert and lantern procession — August 24\, 2022\n\nVOC Sweet Soul Gospel Choir — 6–8 p.m.\nThe final of our Wednesday evenings concert wraps up a summer of great free live music at Trout Lake Community Centre. VOC Sweet Soul Gospel Choir sings six-part harmony and the members include men and women of all ages\, ethnicities and religions. Delivering a high-energy\, positive vibe\, our dynamic choir mixes together the sounds of Soul\, Gospel\, R&B\, Jazz\, Hawaiian\, Calypso\, and Reggae. Our animated deliver results in an audience that can’t resist joining in by toe tapping\, foot stomping\, jumping\, singing\, dancing and hand clapping! \nLantern Procession around Trout Lake with The Carnival Band — 8–9 p.m.\nJoin this spell-binding parade with your own (flameless lantern) or just dance along with music provided by The Carnival Band.
URL:https://troutlakecc.com/event/wednesday-night-summer-concert-the-swingin-doors/
CATEGORIES:Music
ATTACH;FMTTYPE=image/jpeg:https://troutlakecc.com/wp-content/uploads/2022/06/07.18.2022-Summer-Outdoor-Concer-Series-The-Swingin-Doors-07.20.22.jpg
END:VEVENT
END:VCALENDAR