BEGIN:VCALENDAR
VERSION:2.0
PRODID:-//Trout Lake Community Centre - ECPv6.15.11//NONSGML v1.0//EN
CALSCALE:GREGORIAN
METHOD:PUBLISH
X-ORIGINAL-URL:https://troutlakecc.com
X-WR-CALDESC:Events for Trout Lake Community Centre
REFRESH-INTERVAL;VALUE=DURATION:PT1H
X-Robots-Tag:noindex
X-PUBLISHED-TTL:PT1H
BEGIN:VTIMEZONE
TZID:America/Vancouver
BEGIN:DAYLIGHT
TZOFFSETFROM:-0800
TZOFFSETTO:-0700
TZNAME:PDT
DTSTART:20220313T100000
END:DAYLIGHT
BEGIN:STANDARD
TZOFFSETFROM:-0700
TZOFFSETTO:-0800
TZNAME:PST
DTSTART:20221106T090000
END:STANDARD
BEGIN:DAYLIGHT
TZOFFSETFROM:-0800
TZOFFSETTO:-0700
TZNAME:PDT
DTSTART:20230312T100000
END:DAYLIGHT
BEGIN:STANDARD
TZOFFSETFROM:-0700
TZOFFSETTO:-0800
TZNAME:PST
DTSTART:20231105T090000
END:STANDARD
BEGIN:DAYLIGHT
TZOFFSETFROM:-0800
TZOFFSETTO:-0700
TZNAME:PDT
DTSTART:20240310T100000
END:DAYLIGHT
BEGIN:STANDARD
TZOFFSETFROM:-0700
TZOFFSETTO:-0800
TZNAME:PST
DTSTART:20241103T090000
END:STANDARD
END:VTIMEZONE
BEGIN:VEVENT
DTSTART;TZID=America/Vancouver:20230513T090000
DTEND;TZID=America/Vancouver:20230513T150000
DTSTAMP:20260422T164553
CREATED:20230301T015736Z
LAST-MODIFIED:20230301T015736Z
UID:13210-1683968400-1683990000@troutlakecc.com
SUMMARY:Mother's Day Senior's Bake Sale
DESCRIPTION:The Trout Lake Senior’s bake sale is back again this year on Mother’s Day! This is the perfect event to find delicious homemade baking. Bring Moms\, Grandmas\, and everyone else to check out our selection of delicious baking from the Trout Lake Seniors. Everything from pies\, cakes\, cookies\, loaves\, savouries\, and more! Don’t miss out on these delicious treats. One day only! \nNo registration required. \nAll ages. \nSaturday\, May 13th\, 9:00 a.m. – 3:00 p.m. \n 
URL:https://troutlakecc.com/event/mothers-day-seniors-bake-sale/
LOCATION:Trout Lake Community Centre\, 3360 Victoria Drive\, Vancouver\, V5N4M4\, Canada
CATEGORIES:Community
ATTACH;FMTTYPE=image/jpeg:https://troutlakecc.com/wp-content/uploads/2022/03/dorothy-and-mary-bake-sale-amanda-e1661472679543.jpg
END:VEVENT
END:VCALENDAR