BEGIN:VCALENDAR
VERSION:2.0
PRODID:-//Trout Lake Community Centre - ECPv6.15.11//NONSGML v1.0//EN
CALSCALE:GREGORIAN
METHOD:PUBLISH
X-WR-CALNAME:Trout Lake Community Centre
X-ORIGINAL-URL:https://troutlakecc.com
X-WR-CALDESC:Events for Trout Lake Community Centre
REFRESH-INTERVAL;VALUE=DURATION:PT1H
X-Robots-Tag:noindex
X-PUBLISHED-TTL:PT1H
BEGIN:VTIMEZONE
TZID:America/Vancouver
BEGIN:DAYLIGHT
TZOFFSETFROM:-0800
TZOFFSETTO:-0700
TZNAME:PDT
DTSTART:20240310T100000
END:DAYLIGHT
BEGIN:STANDARD
TZOFFSETFROM:-0700
TZOFFSETTO:-0800
TZNAME:PST
DTSTART:20241103T090000
END:STANDARD
BEGIN:DAYLIGHT
TZOFFSETFROM:-0800
TZOFFSETTO:-0700
TZNAME:PDT
DTSTART:20250309T100000
END:DAYLIGHT
BEGIN:STANDARD
TZOFFSETFROM:-0700
TZOFFSETTO:-0800
TZNAME:PST
DTSTART:20251102T090000
END:STANDARD
BEGIN:DAYLIGHT
TZOFFSETFROM:-0800
TZOFFSETTO:-0700
TZNAME:PDT
DTSTART:20260308T100000
END:DAYLIGHT
BEGIN:STANDARD
TZOFFSETFROM:-0700
TZOFFSETTO:-0800
TZNAME:PST
DTSTART:20261101T090000
END:STANDARD
END:VTIMEZONE
BEGIN:VEVENT
DTSTART;TZID=America/Vancouver:20251010T180000
DTEND;TZID=America/Vancouver:20251010T200000
DTSTAMP:20260420T234506
CREATED:20250801T205114Z
LAST-MODIFIED:20250805T191053Z
UID:12463-1760119200-1760126400@troutlakecc.com
SUMMARY:Fall Harvest Hoedown
DESCRIPTION:Bring the whole family for a fun-filled evening of line dancing\, hearty food\, and community fun! Enjoy a delicious meal of homemade soup\, fresh bread\, and dessert— served in a beautiful handcrafted pottery bowl made and donated by the TL Pottery Club\, which you get to take home. \nKids under 2 years of age are free and you do not need to register them. \nIn an effort to reduce waste\, please bring your own utensils and drinkware. \nFriday\, October 10 \nActivity #566430
URL:https://troutlakecc.com/event/fall-harvest-community-dance/
LOCATION:Trout Lake Community Centre\, 3360 Victoria Drive\, Vancouver\, V5N4M4\, Canada
CATEGORIES:Music
ATTACH;FMTTYPE=image/png:https://troutlakecc.com/wp-content/uploads/2023/08/Fall-harvest-pottery-club-with-bowls.png
END:VEVENT
BEGIN:VEVENT
DTSTART;TZID=America/Vancouver:20251025T100000
DTEND;TZID=America/Vancouver:20251025T120000
DTSTAMP:20260420T234506
CREATED:20250801T204559Z
LAST-MODIFIED:20250805T190929Z
UID:15964-1761386400-1761393600@troutlakecc.com
SUMMARY:Trick or Trout?
DESCRIPTION:Come join us for our annual Halloween event happening on October 25th from 10:00a.m.-12:00p.m.! It will be a spooky Saturday filled with games\, arts and crafts and a bouncy castle. There will also be trick or treating\, popcorn\, face painting\, and a photo wall available! \nFor ages 2-13 years\, be sure not to miss out on having a spooky and memorable Halloween celebration this year at Trout Lake community centre. Don’t forget\, wear your costume! \nFREE event\, but please register \nActivity #566432
URL:https://troutlakecc.com/event/trick-or-trout/
LOCATION:Trout Lake Community Centre\, 3360 Victoria Drive\, Vancouver\, V5N4M4\, Canada
CATEGORIES:Family
ATTACH;FMTTYPE=image/png:https://troutlakecc.com/wp-content/uploads/2023/08/Halloween.png
END:VEVENT
END:VCALENDAR