BEGIN:VCALENDAR
VERSION:2.0
PRODID:-//Trout Lake Community Centre - ECPv6.15.11//NONSGML v1.0//EN
CALSCALE:GREGORIAN
METHOD:PUBLISH
X-ORIGINAL-URL:https://troutlakecc.com
X-WR-CALDESC:Events for Trout Lake Community Centre
REFRESH-INTERVAL;VALUE=DURATION:PT1H
X-Robots-Tag:noindex
X-PUBLISHED-TTL:PT1H
BEGIN:VTIMEZONE
TZID:America/Vancouver
BEGIN:DAYLIGHT
TZOFFSETFROM:-0800
TZOFFSETTO:-0700
TZNAME:PDT
DTSTART:20230312T100000
END:DAYLIGHT
BEGIN:STANDARD
TZOFFSETFROM:-0700
TZOFFSETTO:-0800
TZNAME:PST
DTSTART:20231105T090000
END:STANDARD
BEGIN:DAYLIGHT
TZOFFSETFROM:-0800
TZOFFSETTO:-0700
TZNAME:PDT
DTSTART:20240310T100000
END:DAYLIGHT
BEGIN:STANDARD
TZOFFSETFROM:-0700
TZOFFSETTO:-0800
TZNAME:PST
DTSTART:20241103T090000
END:STANDARD
BEGIN:DAYLIGHT
TZOFFSETFROM:-0800
TZOFFSETTO:-0700
TZNAME:PDT
DTSTART:20250309T100000
END:DAYLIGHT
BEGIN:STANDARD
TZOFFSETFROM:-0700
TZOFFSETTO:-0800
TZNAME:PST
DTSTART:20251102T090000
END:STANDARD
END:VTIMEZONE
BEGIN:VEVENT
DTSTART;TZID=America/Vancouver:20240206T180000
DTEND;TZID=America/Vancouver:20240206T200000
DTSTAMP:20260421T142119
CREATED:20231223T001656Z
LAST-MODIFIED:20231223T001656Z
UID:16519-1707242400-1707249600@troutlakecc.com
SUMMARY:Leather Dog Leash and Collar Workshop
DESCRIPTION:Learn to make a leash and collar for your best friend\, and have fun developing the skills associated with a new craft. \nThis workshop will familiarize participants with the commonly used leatherworking tools found at the Vancouver Tool Library\, and provide an opportunity to practice basic leather working including hole punching\, rivet setting and edge finishing. \nREGISTER @ vanrec.ca \nFor ages  19+ \nTuesday\, February 6\, 2024\n6-8 p.m. \nActivity # 485449
URL:https://troutlakecc.com/event/leather-dog-leash-and-collar-workshop/
LOCATION:Trout Lake Community Centre\, 3360 Victoria Drive\, Vancouver\, V5N4M4\, Canada
CATEGORIES:Workshop
ATTACH;FMTTYPE=image/png:https://troutlakecc.com/wp-content/uploads/2023/12/leather-dog-leash-and-collar-workshop.png
END:VEVENT
END:VCALENDAR