BEGIN:VCALENDAR
VERSION:2.0
PRODID:-//Trout Lake Community Centre - ECPv6.15.11//NONSGML v1.0//EN
CALSCALE:GREGORIAN
METHOD:PUBLISH
X-WR-CALNAME:Trout Lake Community Centre
X-ORIGINAL-URL:https://troutlakecc.com
X-WR-CALDESC:Events for Trout Lake Community Centre
REFRESH-INTERVAL;VALUE=DURATION:PT1H
X-Robots-Tag:noindex
X-PUBLISHED-TTL:PT1H
BEGIN:VTIMEZONE
TZID:America/Vancouver
BEGIN:DAYLIGHT
TZOFFSETFROM:-0800
TZOFFSETTO:-0700
TZNAME:PDT
DTSTART:20220313T100000
END:DAYLIGHT
BEGIN:STANDARD
TZOFFSETFROM:-0700
TZOFFSETTO:-0800
TZNAME:PST
DTSTART:20221106T090000
END:STANDARD
BEGIN:DAYLIGHT
TZOFFSETFROM:-0800
TZOFFSETTO:-0700
TZNAME:PDT
DTSTART:20230312T100000
END:DAYLIGHT
BEGIN:STANDARD
TZOFFSETFROM:-0700
TZOFFSETTO:-0800
TZNAME:PST
DTSTART:20231105T090000
END:STANDARD
BEGIN:DAYLIGHT
TZOFFSETFROM:-0800
TZOFFSETTO:-0700
TZNAME:PDT
DTSTART:20240310T100000
END:DAYLIGHT
BEGIN:STANDARD
TZOFFSETFROM:-0700
TZOFFSETTO:-0800
TZNAME:PST
DTSTART:20241103T090000
END:STANDARD
END:VTIMEZONE
BEGIN:VEVENT
DTSTART;TZID=America/Vancouver:20230422T110000
DTEND;TZID=America/Vancouver:20230422T140000
DTSTAMP:20260422T181821
CREATED:20230301T012855Z
LAST-MODIFIED:20230420T215120Z
UID:13208-1682161200-1682172000@troutlakecc.com
SUMMARY:Earth Day at Trout Lake
DESCRIPTION:Calling all Earthlings! Earth Day is back at Trout Lake. Join us for some good GREEN family fun while learning how to be better stewards of our environment. Play some games\, make crafts\, do a nature hunt\, join a workshop or just educate yourself from one of our visiting informational booths! \nFree event but please register. \nFor all ages. \nSaturday\, April 22\, 11:00 a.m. – 2:00 p.m. \nActivity #450279 \n\nEVENT MAP\nPlease note: If bad weather\, activities will be moved into the Gymnasium.\n \n  \nACTIVITIES AND BOOTHS\n \n  \nWORKSHOP REGISTRATION\nBeeswax Wrap Workshop: Craft your own beeswax wrap!\nPre-registration required. $2/ 1 session. Activity #450077 and #450078 \nDIY Body Care and Cleaning: Workshop on how to make a lip balm\, hand and foot salve\, all-purpose cleaner\, and dish soap.\nPre-registration required. $5/ 1 session. Activity #450072
URL:https://troutlakecc.com/event/earth-day-at-trout-lake/
LOCATION:Trout Lake Community Centre\, 3360 Victoria Drive\, Vancouver\, V5N4M4\, Canada
CATEGORIES:Community
ATTACH;FMTTYPE=image/jpeg:https://troutlakecc.com/wp-content/uploads/2023/04/Earth-Day-homepage.jpg
END:VEVENT
END:VCALENDAR