BEGIN:VCALENDAR
VERSION:2.0
PRODID:-//Trout Lake Community Centre - ECPv6.15.11//NONSGML v1.0//EN
CALSCALE:GREGORIAN
METHOD:PUBLISH
X-WR-CALNAME:Trout Lake Community Centre
X-ORIGINAL-URL:https://troutlakecc.com
X-WR-CALDESC:Events for Trout Lake Community Centre
REFRESH-INTERVAL;VALUE=DURATION:PT1H
X-Robots-Tag:noindex
X-PUBLISHED-TTL:PT1H
BEGIN:VTIMEZONE
TZID:America/Vancouver
BEGIN:DAYLIGHT
TZOFFSETFROM:-0800
TZOFFSETTO:-0700
TZNAME:PDT
DTSTART:20240310T100000
END:DAYLIGHT
BEGIN:STANDARD
TZOFFSETFROM:-0700
TZOFFSETTO:-0800
TZNAME:PST
DTSTART:20241103T090000
END:STANDARD
BEGIN:DAYLIGHT
TZOFFSETFROM:-0800
TZOFFSETTO:-0700
TZNAME:PDT
DTSTART:20250309T100000
END:DAYLIGHT
BEGIN:STANDARD
TZOFFSETFROM:-0700
TZOFFSETTO:-0800
TZNAME:PST
DTSTART:20251102T090000
END:STANDARD
BEGIN:DAYLIGHT
TZOFFSETFROM:-0800
TZOFFSETTO:-0700
TZNAME:PDT
DTSTART:20260308T100000
END:DAYLIGHT
BEGIN:STANDARD
TZOFFSETFROM:-0700
TZOFFSETTO:-0800
TZNAME:PST
DTSTART:20261101T090000
END:STANDARD
END:VTIMEZONE
BEGIN:VEVENT
DTSTART;TZID=America/Vancouver:20250707T184500
DTEND;TZID=America/Vancouver:20250707T194500
DTSTAMP:20260423T220339
CREATED:20250507T001625Z
LAST-MODIFIED:20250507T191239Z
UID:17268-1751913900-1751917500@troutlakecc.com
SUMMARY:Zumba in the Park
DESCRIPTION:Classes restarting and Fitness Centre reopening\n		\n			\n				January 21\, 2022\n				Posted by: \n													\n						Category:													\n                                Announcement\n                            \,\n											\n							\n			\n				 No Comments \n			\n		\n					\n							\n			\n \n				\n				\n				\n				\n									As per this week’s announcement\, the adjusted Public Health Order allows Trout Lake to bring back all community centre programs that were suspended and to reopen the fitness centre as of January 24th. \nHowever\, some restrictions are part of this updated health order\, which is in effect until February 16. Please find the details below. \nAssociation programs\nClasses will be smaller\, depending on the size of the room\, to allow for physical distancing with up to 25 participants maximum. Registered participants are being contacted by the programming team via email. Some notes: \n\nIf patrons are not comfortable about returning to their registered class\, they may request a refund (which will be less a $5 fee for credit card payments).\nInstructors and participants can remove their mask while in the field of play.\nRegistration is preferred\, however we will allow drop-ins if classes are not full.\nNo special events\nNo birthday parties\nNo party type rentals (but sport\, religious or board meetings are allowed)\n\nFitness Centre\nThe Fitness centre will re-open on Monday\, Jan 24th for one hour pre-registered timed entry. It will most likely be opening for regular hours\, but this may depend on staffing. Please note the following details. \n\n80% of spots will be registered and 20% will be drop-ins with a maximum of 25 participants total\nRegistration for time slots opens 3 days prior through ActiveNet\nNo drop-ins will be allowed before 9 a.m.; all 25 early morning spots will be registered only\nIndoor cycling remains paused\nTrout Lake will be a designated personal training centre along with Dunbar and Creekside\nFor registered patrons\, flow of traffic and check ins will take place upstairs via the upstairs door of the Fitness Centre\nDrop-ins will be processed at the front desk; a receipt will be provided and a fitness attendant will verify upon your arrival at the upstairs door of the Fitness Centre\n\n								\n				\n					\n		\n					\n		\n				\n						\n					\n			\n						\n				\n					\n\n			\n							COVID-19\n							fitness\n							programs
URL:https://troutlakecc.com/event/zumba-in-the-park/
LOCATION:Trout Lake Community Centre\, 3360 Victoria Drive\, Vancouver\, V5N4M4\, Canada
CATEGORIES:Community,Family
ATTACH;FMTTYPE=image/jpeg:https://troutlakecc.com/wp-content/uploads/2017/07/zumba-038-e1501518674194.jpg
ORGANIZER;CN="Zumba Vancouver":MAILTO:info@zumbavancouver.ca
END:VEVENT
END:VCALENDAR