BEGIN:VCALENDAR
VERSION:2.0
PRODID:-//Trout Lake Community Centre - ECPv6.15.11//NONSGML v1.0//EN
CALSCALE:GREGORIAN
METHOD:PUBLISH
X-WR-CALNAME:Trout Lake Community Centre
X-ORIGINAL-URL:https://troutlakecc.com
X-WR-CALDESC:Events for Trout Lake Community Centre
REFRESH-INTERVAL;VALUE=DURATION:PT1H
X-Robots-Tag:noindex
X-PUBLISHED-TTL:PT1H
BEGIN:VTIMEZONE
TZID:America/Vancouver
BEGIN:DAYLIGHT
TZOFFSETFROM:-0800
TZOFFSETTO:-0700
TZNAME:PDT
DTSTART:20230312T100000
END:DAYLIGHT
BEGIN:STANDARD
TZOFFSETFROM:-0700
TZOFFSETTO:-0800
TZNAME:PST
DTSTART:20231105T090000
END:STANDARD
BEGIN:DAYLIGHT
TZOFFSETFROM:-0800
TZOFFSETTO:-0700
TZNAME:PDT
DTSTART:20240310T100000
END:DAYLIGHT
BEGIN:STANDARD
TZOFFSETFROM:-0700
TZOFFSETTO:-0800
TZNAME:PST
DTSTART:20241103T090000
END:STANDARD
BEGIN:DAYLIGHT
TZOFFSETFROM:-0800
TZOFFSETTO:-0700
TZNAME:PDT
DTSTART:20250309T100000
END:DAYLIGHT
BEGIN:STANDARD
TZOFFSETFROM:-0700
TZOFFSETTO:-0800
TZNAME:PST
DTSTART:20251102T090000
END:STANDARD
END:VTIMEZONE
BEGIN:VEVENT
DTSTART;TZID=America/Vancouver:20240219T110000
DTEND;TZID=America/Vancouver:20240219T150000
DTSTAMP:20260420T222052
CREATED:20231209T001343Z
LAST-MODIFIED:20240216T202821Z
UID:16383-1708340400-1708354800@troutlakecc.com
SUMMARY:Family Day 2024
DESCRIPTION:Come join us for Family Day 2024 on February 19!\nWe are excited to host yet another of these AMAZING celebrations that will be bringing new offerings and familiar fun. \nIf you’ve never celebrated with us before\, be prepared for a Centre filled with variety!  We’ve got program demonstrations\, arts\, sports\, dance\, pottery\, and more! \nLast year we celebrated the 10th+ anniversary of the new/current Trout Lake Community Centre building. \nAnd at Family Day 2024 we’re commemorating 60 years since the original Grandview/Trout Lake Community Centre building was first opened in 1964! \nOur Artist in Residence Edward Fuchen Juan has assisted with modernizing the vintage logo! A limited edition release of clothing featuring it will be available for purchase at Family Day. \nFREE (All Ages) but please register \nActivity #478674 \nSchedule of Activities\n♥  Room Schedule \n♥  Drop-in Schedule \n  \n \n  \nWe gratefully acknowledge the financial support of the Province of British Columbia. \nThe Province of British Columbia has provided Trout Lake Community Centre a grant in support of our free\, community Family Day activity. To learn more visit https://www2.gov.bc.ca/gov/content/governments/celebrating-british-columbia/bc-family-day
URL:https://troutlakecc.com/event/family-day-2024/
LOCATION:Trout Lake Community Centre\, 3360 Victoria Drive\, Vancouver\, V5N4M4\, Canada
CATEGORIES:Community,Family
ATTACH;FMTTYPE=image/png:https://troutlakecc.com/wp-content/uploads/2023/12/Family-Day-2024.png
END:VEVENT
END:VCALENDAR