BEGIN:VCALENDAR
VERSION:2.0
PRODID:-//Trout Lake Community Centre - ECPv6.15.11//NONSGML v1.0//EN
CALSCALE:GREGORIAN
METHOD:PUBLISH
X-ORIGINAL-URL:https://troutlakecc.com
X-WR-CALDESC:Events for Trout Lake Community Centre
REFRESH-INTERVAL;VALUE=DURATION:PT1H
X-Robots-Tag:noindex
X-PUBLISHED-TTL:PT1H
BEGIN:VTIMEZONE
TZID:America/Vancouver
BEGIN:DAYLIGHT
TZOFFSETFROM:-0800
TZOFFSETTO:-0700
TZNAME:PDT
DTSTART:20210314T100000
END:DAYLIGHT
BEGIN:STANDARD
TZOFFSETFROM:-0700
TZOFFSETTO:-0800
TZNAME:PST
DTSTART:20211107T090000
END:STANDARD
BEGIN:DAYLIGHT
TZOFFSETFROM:-0800
TZOFFSETTO:-0700
TZNAME:PDT
DTSTART:20220313T100000
END:DAYLIGHT
BEGIN:STANDARD
TZOFFSETFROM:-0700
TZOFFSETTO:-0800
TZNAME:PST
DTSTART:20221106T090000
END:STANDARD
BEGIN:DAYLIGHT
TZOFFSETFROM:-0800
TZOFFSETTO:-0700
TZNAME:PDT
DTSTART:20230312T100000
END:DAYLIGHT
BEGIN:STANDARD
TZOFFSETFROM:-0700
TZOFFSETTO:-0800
TZNAME:PST
DTSTART:20231105T090000
END:STANDARD
END:VTIMEZONE
BEGIN:VEVENT
DTSTART;TZID=America/Vancouver:20221029T100000
DTEND;TZID=America/Vancouver:20221029T120000
DTSTAMP:20260422T145220
CREATED:20220825T210252Z
LAST-MODIFIED:20220826T001417Z
UID:12468-1667037600-1667044800@troutlakecc.com
SUMMARY:Halloween Celebration
DESCRIPTION:Calling all Halloween costumers! Come take a walk through our Haunted House\, jump in the bouncy castle\, play Halloween games\, and make some pumpkin crafts. Lots more surprises to come! Please register early as this event will sell out. \n(3-13 yrs) Free for Adults!! \nActivity #415758
URL:https://troutlakecc.com/event/halloween-celebration/
LOCATION:Trout Lake Community Centre\, 3360 Victoria Drive\, Vancouver\, V5N4M4\, Canada
CATEGORIES:Family
ATTACH;FMTTYPE=image/jpeg:https://troutlakecc.com/wp-content/uploads/2022/08/david-menidrey-MYRG0ptGh50-unsplash-scaled-e1661472829760.jpg
END:VEVENT
END:VCALENDAR