BEGIN:VCALENDAR
VERSION:2.0
PRODID:-//Trout Lake Community Centre - ECPv6.15.11//NONSGML v1.0//EN
CALSCALE:GREGORIAN
METHOD:PUBLISH
X-ORIGINAL-URL:https://troutlakecc.com
X-WR-CALDESC:Events for Trout Lake Community Centre
REFRESH-INTERVAL;VALUE=DURATION:PT1H
X-Robots-Tag:noindex
X-PUBLISHED-TTL:PT1H
BEGIN:VTIMEZONE
TZID:America/Vancouver
BEGIN:DAYLIGHT
TZOFFSETFROM:-0800
TZOFFSETTO:-0700
TZNAME:PDT
DTSTART:20220313T100000
END:DAYLIGHT
BEGIN:STANDARD
TZOFFSETFROM:-0700
TZOFFSETTO:-0800
TZNAME:PST
DTSTART:20221106T090000
END:STANDARD
BEGIN:DAYLIGHT
TZOFFSETFROM:-0800
TZOFFSETTO:-0700
TZNAME:PDT
DTSTART:20230312T100000
END:DAYLIGHT
BEGIN:STANDARD
TZOFFSETFROM:-0700
TZOFFSETTO:-0800
TZNAME:PST
DTSTART:20231105T090000
END:STANDARD
BEGIN:DAYLIGHT
TZOFFSETFROM:-0800
TZOFFSETTO:-0700
TZNAME:PDT
DTSTART:20240310T100000
END:DAYLIGHT
BEGIN:STANDARD
TZOFFSETFROM:-0700
TZOFFSETTO:-0800
TZNAME:PST
DTSTART:20241103T090000
END:STANDARD
END:VTIMEZONE
BEGIN:VEVENT
DTSTART;TZID=America/Vancouver:20230112T180000
DTEND;TZID=America/Vancouver:20230112T200000
DTSTAMP:20260424T082217
CREATED:20221206T234426Z
LAST-MODIFIED:20221206T234426Z
UID:12777-1673546400-1673553600@troutlakecc.com
SUMMARY:Leather Belt Workshop
DESCRIPTION:Learn to make items you use every day (such as a leather belt)\, and have fun developing the skills associated with a new craft at this workshop! \nThis workshop will familiarize participants with the commonly used leatherworking tools found at the Vancouver Tool Library\, and provide an opportunity to practice basic leather working including hole punching and edge finishing. At the end of the session all participants will have a custom belt they made to take home. \nFor Ages 19+ \nThursday\, Jan 12 6:00 p.m. – 8:00 p.m. \nCost: $94.50 \nActivity #433657
URL:https://troutlakecc.com/event/leather-belt-workshop/
LOCATION:Trout Lake Community Centre\, 3360 Victoria Drive\, Vancouver\, V5N4M4\, Canada
CATEGORIES:Workshop
ATTACH;FMTTYPE=image/jpeg:https://troutlakecc.com/wp-content/uploads/2022/12/Leather-Belt-Workshop-scaled.jpg
END:VEVENT
END:VCALENDAR