BEGIN:VCALENDAR
VERSION:2.0
PRODID:-//Trout Lake Community Centre - ECPv6.15.11//NONSGML v1.0//EN
CALSCALE:GREGORIAN
METHOD:PUBLISH
X-WR-CALNAME:Trout Lake Community Centre
X-ORIGINAL-URL:https://troutlakecc.com
X-WR-CALDESC:Events for Trout Lake Community Centre
REFRESH-INTERVAL;VALUE=DURATION:PT1H
X-Robots-Tag:noindex
X-PUBLISHED-TTL:PT1H
BEGIN:VTIMEZONE
TZID:America/Vancouver
BEGIN:DAYLIGHT
TZOFFSETFROM:-0800
TZOFFSETTO:-0700
TZNAME:PDT
DTSTART:20220313T100000
END:DAYLIGHT
BEGIN:STANDARD
TZOFFSETFROM:-0700
TZOFFSETTO:-0800
TZNAME:PST
DTSTART:20221106T090000
END:STANDARD
BEGIN:DAYLIGHT
TZOFFSETFROM:-0800
TZOFFSETTO:-0700
TZNAME:PDT
DTSTART:20230312T100000
END:DAYLIGHT
BEGIN:STANDARD
TZOFFSETFROM:-0700
TZOFFSETTO:-0800
TZNAME:PST
DTSTART:20231105T090000
END:STANDARD
BEGIN:DAYLIGHT
TZOFFSETFROM:-0800
TZOFFSETTO:-0700
TZNAME:PDT
DTSTART:20240310T100000
END:DAYLIGHT
BEGIN:STANDARD
TZOFFSETFROM:-0700
TZOFFSETTO:-0800
TZNAME:PST
DTSTART:20241103T090000
END:STANDARD
END:VTIMEZONE
BEGIN:VEVENT
DTSTART;TZID=America/Vancouver:20231125T090000
DTEND;TZID=America/Vancouver:20231125T150000
DTSTAMP:20260421T121806
CREATED:20220825T213143Z
LAST-MODIFIED:20230803T224035Z
UID:12485-1700902800-1700924400@troutlakecc.com
SUMMARY:Bake\, Quilt\, and Knit Sale
DESCRIPTION:Come shop the bake\, quilt and knit sale\, brought to you by the Trout Lake Seniors\, Knitting\, and Quilting groups! \nEnjoy delicious home baking from pies\, cakes\, cookies\, loaves and savoury goodies and shop some beautiful handmade treasures by the Trout Lake Knitting and Quilting Groups. \nFREE! \nSaturday\, November 25 \n9:00 a.m. – 3:00 p.m. \nNo registration required.
URL:https://troutlakecc.com/event/seniors-bake-quilt-and-knit-sale/
LOCATION:Trout Lake Community Centre\, 3360 Victoria Drive\, Vancouver\, V5N4M4\, Canada
CATEGORIES:Art,Community
ATTACH;FMTTYPE=image/jpeg:https://troutlakecc.com/wp-content/uploads/2021/05/Quilting-scaled-e1691102389401.jpg
END:VEVENT
END:VCALENDAR