BEGIN:VCALENDAR
VERSION:2.0
PRODID:-//Trout Lake Community Centre - ECPv6.15.11//NONSGML v1.0//EN
CALSCALE:GREGORIAN
METHOD:PUBLISH
X-ORIGINAL-URL:https://troutlakecc.com
X-WR-CALDESC:Events for Trout Lake Community Centre
REFRESH-INTERVAL;VALUE=DURATION:PT1H
X-Robots-Tag:noindex
X-PUBLISHED-TTL:PT1H
BEGIN:VTIMEZONE
TZID:America/Vancouver
BEGIN:DAYLIGHT
TZOFFSETFROM:-0800
TZOFFSETTO:-0700
TZNAME:PDT
DTSTART:20240310T100000
END:DAYLIGHT
BEGIN:STANDARD
TZOFFSETFROM:-0700
TZOFFSETTO:-0800
TZNAME:PST
DTSTART:20241103T090000
END:STANDARD
BEGIN:DAYLIGHT
TZOFFSETFROM:-0800
TZOFFSETTO:-0700
TZNAME:PDT
DTSTART:20250309T100000
END:DAYLIGHT
BEGIN:STANDARD
TZOFFSETFROM:-0700
TZOFFSETTO:-0800
TZNAME:PST
DTSTART:20251102T090000
END:STANDARD
BEGIN:DAYLIGHT
TZOFFSETFROM:-0800
TZOFFSETTO:-0700
TZNAME:PDT
DTSTART:20260308T100000
END:DAYLIGHT
BEGIN:STANDARD
TZOFFSETFROM:-0700
TZOFFSETTO:-0800
TZNAME:PST
DTSTART:20261101T090000
END:STANDARD
END:VTIMEZONE
BEGIN:VEVENT
DTSTART;TZID=America/Vancouver:20250820T183000
DTEND;TZID=America/Vancouver:20250820T203000
DTSTAMP:20260423T203239
CREATED:20250505T224737Z
LAST-MODIFIED:20250507T054946Z
UID:15745-1755714600-1755721800@troutlakecc.com
SUMMARY:Checo Tohomaso and VOC Sweet Soul Gospel Choir — Final Wednesday Night Summer Concert
DESCRIPTION:Performing August 20\, 2025 – Our FINAL summer concert: Checo Tohomaso and VOC Sweet Soul Gospel Choir\nPerforming from 6:30 – 8:30 p.m.\, Checo Tohomaso and the VOC Gospel Choir are keeping sweet soul alive\, taking inspiration from Sam Cooke\, Otis Redding\, and Marvin Gaye to deliver some dancing\, toe tapping\, energetic music! \nJoin us for the grand finale next week! \nPerforming August 27\, 2025 for the Lantern Procession — The Carnival Band\nPerforming from 8:30 to 9:30 p.m.\, many of the Carnival Band’s favourite tunes are originals by band members. The remainder of their monstrous repertoire includes samba\, calypso\, swing\, afrobeat\, jazz\, funk\, disco\, and traditional music from around the globe. \nThe band believes that community music is grounded in collaboration\, with the aim of empowering the individuals involved. Songs and performances are a means to creative expression and community cohesiveness\, rather than an end in themselves. \nIf you have a desire to learn and perform\, they can help make your dream come true. Some instruments are available for loan\, and some of the band members teach music professionally. They do this because they love it\, and because it makes the neighbourhood smile! \nFREE to participate
URL:https://troutlakecc.com/event/checo-tohomaso-and-voc-sweet-soul-gospel-choir/
LOCATION:Trout Lake Community Centre\, 3360 Victoria Drive\, Vancouver\, V5N4M4\, Canada
CATEGORIES:Music
ATTACH;FMTTYPE=image/jpeg:https://troutlakecc.com/wp-content/uploads/2023/06/Checo-Tohomaso-and-VOC-e1724106298527.jpg
END:VEVENT
END:VCALENDAR